BEGIN:VCALENDAR
VERSION:2.0
PRODID:-//Internationals Bratislava - ECPv4.6.21//NONSGML v1.0//EN
CALSCALE:GREGORIAN
METHOD:PUBLISH
X-WR-CALNAME:Internationals Bratislava
X-ORIGINAL-URL:http://internationals.sk
X-WR-CALDESC:Events for Internationals Bratislava
BEGIN:VEVENT
DTSTART;TZID=UTC+2:20170423T150000
DTEND;TZID=UTC+2:20170423T190000
DTSTAMP:20260425T233154
CREATED:20170408T180100Z
LAST-MODIFIED:20170408T180142Z
UID:2925-1492959600-1492974000@internationals.sk
SUMMARY:International festival fjuzn
DESCRIPTION:Dear International friends \n  \nAs part of a big International festival fjuzn we will organize few activities in our community centre – everything beside the henna is for free \nFor sport trainings and hennah we recomend to make reservation since capacity is limited\, reservations and questions: info@internationals.sk \n15:00- 16:00 GAthering and Hennah painting – Seher\n16:00 – 16:40 Heartfulness meditation\n17:00-17:45 – Belly dance – Lucia\n18:00-18:40 – Recovering yoga – Magi \nThis workshop is organized by:\nFestival [fjúžn]: www.fjuzn.sk\nNadácia Milana Šimečku: www.nadaciamilanasimecku.sk\nInternationals Bratislava: www.internationals.sk \nLooking forward to see you all! \n
URL:http://internationals.sk/event/international-festival-fjuzn/
LOCATION:Namestie SNP 22\, Bratislava\, Slovakia (Slovak Republic)
ATTACH;FMTTYPE=image/jpeg:http://internationals.sk/wp-content/uploads/2016/10/dic.jpg
END:VEVENT
END:VCALENDAR