BEGIN:VCALENDAR
VERSION:2.0
PRODID:-//Internationals Bratislava - ECPv4.6.21//NONSGML v1.0//EN
CALSCALE:GREGORIAN
METHOD:PUBLISH
X-WR-CALNAME:Internationals Bratislava
X-ORIGINAL-URL:http://internationals.sk
X-WR-CALDESC:Events for Internationals Bratislava
BEGIN:VEVENT
DTSTART;TZID=UTC+2:20170331T190000
DTEND;TZID=UTC+2:20170331T204500
DTSTAMP:20260425T214945
CREATED:20170315T104723Z
LAST-MODIFIED:20170315T104759Z
UID:2846-1490986800-1490993100@internationals.sk
SUMMARY:Face yoga - Basic course
DESCRIPTION:***Slovencina nizsie*** \n  \nAs we age we always want to turn back time\, look younger\nget rid of a double chin\, under-eye puffiness\, nasolabial folds\, return our face to more youthfull look again\nWe invite you to FACE YOGA course\, where you will be taught how to became younger \, without scalpel and botox.\nWhat can you expect and will learn on this course?\n Principles of natural anti-ageing method – FACE YOGA\n Basic set of exercises for every-day practice for your face muscles\n Basic face massage\n You will get instructions how to practice at home\n Individual advice and recommendations for your face\nAnd we will have for sure a lot of fun together \nlanguage > ENGLISH\nDate : 31 –st of March\, 18.30 – 20.15\, New community centre Internationals Bratislava\, Námestie SNP 22\, Bratislava\nRegistration fee : 35 EUR\nFor more information and registration please contact me by email zuzka@tvarovajoga.sk\nOr by phone : +421 902 980 416\nSo if you are interested\, sign up please\, I am looking forward to see you!\nZUZANA\n******************************************************************************\nAj vy máte občas chuť zastaviť čas\, vyzerať mladšie\, zbaviť sa dvojitej brady či opuchov pod očami\, nazolabiálnej vrásky\, dať svojej pleti opäť mladistvý vzhľad? Pozývame vás na základný kurz tvárovej jogy\, kde sa naučíte ako vyzerať lepšie\, mladšie\, bez použitia skalpela či botoxu.\nČo sa spolu naučíme ?\n Princípy prirodzenej metódy omladenia tváre – Tvárovej jogy\n Základný set cvikov na precvičenie celej tváre\n Tipy a rady ako zakomponovať cvičenie do vášho denného programu\n Dostanete materiály a inštrukcie na cvičenie doma\n Individuálne poradenstvo a inštrukcie\nA určite zažijeme spolu veľa zábavy! \nJazyk > ANGLIČTINA\nDátum : 31.3. od 18:30 – 20:15\,Komunitné centrum Internationals Bratislava\nCena kurzu : 35 EUR\nRegistrovať sa môžete emailom na zuzka@tvarovajoga.sk alebo telefonicky : +421 902 980 416\nRezervujte si svoje miesto \, teším sa na vás!\nZUZANA \n
URL:http://internationals.sk/event/2846/
LOCATION:Namestie SNP 22\, Bratislava\, Slovakia (Slovak Republic)
ATTACH;FMTTYPE=image/jpeg:http://internationals.sk/wp-content/uploads/2017/03/16508653_608745679331392_7041598730674125047_n.jpg
END:VEVENT
END:VCALENDAR